BEGIN:VCALENDAR
VERSION:2.0
PRODID:-//Community Evangelical Church - ECPv6.15.20//NONSGML v1.0//EN
CALSCALE:GREGORIAN
METHOD:PUBLISH
X-WR-CALNAME:Community Evangelical Church
X-ORIGINAL-URL:https://communityec.org
X-WR-CALDESC:Events for Community Evangelical Church
REFRESH-INTERVAL;VALUE=DURATION:PT1H
X-Robots-Tag:noindex
X-PUBLISHED-TTL:PT1H
BEGIN:VTIMEZONE
TZID:America/New_York
BEGIN:DAYLIGHT
TZOFFSETFROM:-0500
TZOFFSETTO:-0400
TZNAME:EDT
DTSTART:20250309T070000
END:DAYLIGHT
BEGIN:STANDARD
TZOFFSETFROM:-0400
TZOFFSETTO:-0500
TZNAME:EST
DTSTART:20251102T060000
END:STANDARD
BEGIN:DAYLIGHT
TZOFFSETFROM:-0500
TZOFFSETTO:-0400
TZNAME:EDT
DTSTART:20260308T070000
END:DAYLIGHT
BEGIN:STANDARD
TZOFFSETFROM:-0400
TZOFFSETTO:-0500
TZNAME:EST
DTSTART:20261101T060000
END:STANDARD
BEGIN:DAYLIGHT
TZOFFSETFROM:-0500
TZOFFSETTO:-0400
TZNAME:EDT
DTSTART:20270314T070000
END:DAYLIGHT
BEGIN:STANDARD
TZOFFSETFROM:-0400
TZOFFSETTO:-0500
TZNAME:EST
DTSTART:20271107T060000
END:STANDARD
END:VTIMEZONE
BEGIN:VEVENT
DTSTART;TZID=America/New_York:20260507T183000
DTEND;TZID=America/New_York:20260507T200000
DTSTAMP:20260421T032620
CREATED:20260225T170939Z
LAST-MODIFIED:20260317T170949Z
UID:10020686-1778178600-1778184000@communityec.org
SUMMARY:Chronic Hope Community Group in Youth Rms 8/9
DESCRIPTION:This a new ministry at CEC that is a Community Group for those with chronic illness. Anyone who has a chronic illness can attend along with anyone who supports/cares for someone with a chronic illness. We’ll meet in the Youth Room starting on Thursday\, April 9th.. \nIf you or someone you love is walking through chronic illness\, we want to invite you to a space of comfort\, connection\, and Christ-centered encouragement. It’s called Chronic Hope—a support group for those navigating chronic illness or supporting someone who has a chronic illness. \n\nWe will be meeting in the Youth Room beginning April 9\, 2026. We gather to share\, pray\, reflect on Scripture\, and remind each other of God’s sustaining grace. As Hebrews 10:24–25 reminds us: “Let us consider how we may spur one another on toward love and good deeds\, not giving up meeting together… but encouraging one another.”
URL:https://communityec.org/calendar/chronic-hope-community-group-in-youth-rms-8-9/2026-05-07/
LOCATION:Community Evangelical Church\, 51 Green Valley Rd\, Sinking Spring\, PA\, 19608\, United States
CATEGORIES:Other CEC Events
ATTACH;FMTTYPE=image/jpeg:https://communityec.org/wp-content/uploads/2026/02/CHRONIC-HOPE-Community-Group.jpg
ORGANIZER;CN="Community Evangelical Church":MAILTO:info@communityec.org
END:VEVENT
BEGIN:VEVENT
DTSTART;TZID=America/New_York:20260521T183000
DTEND;TZID=America/New_York:20260521T200000
DTSTAMP:20260421T032620
CREATED:20260225T170939Z
LAST-MODIFIED:20260317T170949Z
UID:10020687-1779388200-1779393600@communityec.org
SUMMARY:Chronic Hope Community Group in Youth Rms 8/9
DESCRIPTION:This a new ministry at CEC that is a Community Group for those with chronic illness. Anyone who has a chronic illness can attend along with anyone who supports/cares for someone with a chronic illness. We’ll meet in the Youth Room starting on Thursday\, April 9th.. \nIf you or someone you love is walking through chronic illness\, we want to invite you to a space of comfort\, connection\, and Christ-centered encouragement. It’s called Chronic Hope—a support group for those navigating chronic illness or supporting someone who has a chronic illness. \n\nWe will be meeting in the Youth Room beginning April 9\, 2026. We gather to share\, pray\, reflect on Scripture\, and remind each other of God’s sustaining grace. As Hebrews 10:24–25 reminds us: “Let us consider how we may spur one another on toward love and good deeds\, not giving up meeting together… but encouraging one another.”
URL:https://communityec.org/calendar/chronic-hope-community-group-in-youth-rms-8-9/2026-05-21/
LOCATION:Community Evangelical Church\, 51 Green Valley Rd\, Sinking Spring\, PA\, 19608\, United States
CATEGORIES:Other CEC Events
ATTACH;FMTTYPE=image/jpeg:https://communityec.org/wp-content/uploads/2026/02/CHRONIC-HOPE-Community-Group.jpg
ORGANIZER;CN="Community Evangelical Church":MAILTO:info@communityec.org
END:VEVENT
BEGIN:VEVENT
DTSTART;TZID=America/New_York:20260604T183000
DTEND;TZID=America/New_York:20260604T200000
DTSTAMP:20260421T032620
CREATED:20260225T170939Z
LAST-MODIFIED:20260317T170949Z
UID:10020688-1780597800-1780603200@communityec.org
SUMMARY:Chronic Hope Community Group in Youth Rms 8/9
DESCRIPTION:This a new ministry at CEC that is a Community Group for those with chronic illness. Anyone who has a chronic illness can attend along with anyone who supports/cares for someone with a chronic illness. We’ll meet in the Youth Room starting on Thursday\, April 9th.. \nIf you or someone you love is walking through chronic illness\, we want to invite you to a space of comfort\, connection\, and Christ-centered encouragement. It’s called Chronic Hope—a support group for those navigating chronic illness or supporting someone who has a chronic illness. \n\nWe will be meeting in the Youth Room beginning April 9\, 2026. We gather to share\, pray\, reflect on Scripture\, and remind each other of God’s sustaining grace. As Hebrews 10:24–25 reminds us: “Let us consider how we may spur one another on toward love and good deeds\, not giving up meeting together… but encouraging one another.”
URL:https://communityec.org/calendar/chronic-hope-community-group-in-youth-rms-8-9/2026-06-04/
LOCATION:Community Evangelical Church\, 51 Green Valley Rd\, Sinking Spring\, PA\, 19608\, United States
CATEGORIES:Other CEC Events
ATTACH;FMTTYPE=image/jpeg:https://communityec.org/wp-content/uploads/2026/02/CHRONIC-HOPE-Community-Group.jpg
ORGANIZER;CN="Community Evangelical Church":MAILTO:info@communityec.org
END:VEVENT
BEGIN:VEVENT
DTSTART;TZID=America/New_York:20260625T183000
DTEND;TZID=America/New_York:20260625T200000
DTSTAMP:20260421T032620
CREATED:20260225T170939Z
LAST-MODIFIED:20260317T170949Z
UID:10020689-1782412200-1782417600@communityec.org
SUMMARY:Chronic Hope Community Group in Youth Rms 8/9
DESCRIPTION:This a new ministry at CEC that is a Community Group for those with chronic illness. Anyone who has a chronic illness can attend along with anyone who supports/cares for someone with a chronic illness. We’ll meet in the Youth Room starting on Thursday\, April 9th.. \nIf you or someone you love is walking through chronic illness\, we want to invite you to a space of comfort\, connection\, and Christ-centered encouragement. It’s called Chronic Hope—a support group for those navigating chronic illness or supporting someone who has a chronic illness. \n\nWe will be meeting in the Youth Room beginning April 9\, 2026. We gather to share\, pray\, reflect on Scripture\, and remind each other of God’s sustaining grace. As Hebrews 10:24–25 reminds us: “Let us consider how we may spur one another on toward love and good deeds\, not giving up meeting together… but encouraging one another.”
URL:https://communityec.org/calendar/chronic-hope-community-group-in-youth-rms-8-9/2026-06-25/
LOCATION:Community Evangelical Church\, 51 Green Valley Rd\, Sinking Spring\, PA\, 19608\, United States
CATEGORIES:Other CEC Events
ATTACH;FMTTYPE=image/jpeg:https://communityec.org/wp-content/uploads/2026/02/CHRONIC-HOPE-Community-Group.jpg
ORGANIZER;CN="Community Evangelical Church":MAILTO:info@communityec.org
END:VEVENT
END:VCALENDAR