BEGIN:VCALENDAR
VERSION:2.0
PRODID:-//Community Evangelical Church - ECPv6.15.20//NONSGML v1.0//EN
CALSCALE:GREGORIAN
METHOD:PUBLISH
X-WR-CALNAME:Community Evangelical Church
X-ORIGINAL-URL:https://communityec.org
X-WR-CALDESC:Events for Community Evangelical Church
REFRESH-INTERVAL;VALUE=DURATION:PT1H
X-Robots-Tag:noindex
X-PUBLISHED-TTL:PT1H
BEGIN:VTIMEZONE
TZID:America/New_York
BEGIN:DAYLIGHT
TZOFFSETFROM:-0500
TZOFFSETTO:-0400
TZNAME:EDT
DTSTART:20270314T070000
END:DAYLIGHT
BEGIN:STANDARD
TZOFFSETFROM:-0400
TZOFFSETTO:-0500
TZNAME:EST
DTSTART:20271107T060000
END:STANDARD
BEGIN:DAYLIGHT
TZOFFSETFROM:-0500
TZOFFSETTO:-0400
TZNAME:EDT
DTSTART:20280312T070000
END:DAYLIGHT
BEGIN:STANDARD
TZOFFSETFROM:-0400
TZOFFSETTO:-0500
TZNAME:EST
DTSTART:20281105T060000
END:STANDARD
BEGIN:DAYLIGHT
TZOFFSETFROM:-0500
TZOFFSETTO:-0400
TZNAME:EDT
DTSTART:20290311T070000
END:DAYLIGHT
BEGIN:STANDARD
TZOFFSETFROM:-0400
TZOFFSETTO:-0500
TZNAME:EST
DTSTART:20291104T060000
END:STANDARD
BEGIN:DAYLIGHT
TZOFFSETFROM:-0500
TZOFFSETTO:-0400
TZNAME:EDT
DTSTART:20300310T070000
END:DAYLIGHT
BEGIN:STANDARD
TZOFFSETFROM:-0400
TZOFFSETTO:-0500
TZNAME:EST
DTSTART:20301103T060000
END:STANDARD
BEGIN:DAYLIGHT
TZOFFSETFROM:-0500
TZOFFSETTO:-0400
TZNAME:EDT
DTSTART:20310309T070000
END:DAYLIGHT
BEGIN:STANDARD
TZOFFSETFROM:-0400
TZOFFSETTO:-0500
TZNAME:EST
DTSTART:20311102T060000
END:STANDARD
BEGIN:DAYLIGHT
TZOFFSETFROM:-0500
TZOFFSETTO:-0400
TZNAME:EDT
DTSTART:20320314T070000
END:DAYLIGHT
BEGIN:STANDARD
TZOFFSETFROM:-0400
TZOFFSETTO:-0500
TZNAME:EST
DTSTART:20321107T060000
END:STANDARD
BEGIN:DAYLIGHT
TZOFFSETFROM:-0500
TZOFFSETTO:-0400
TZNAME:EDT
DTSTART:20330313T070000
END:DAYLIGHT
BEGIN:STANDARD
TZOFFSETFROM:-0400
TZOFFSETTO:-0500
TZNAME:EST
DTSTART:20331106T060000
END:STANDARD
BEGIN:DAYLIGHT
TZOFFSETFROM:-0500
TZOFFSETTO:-0400
TZNAME:EDT
DTSTART:20340312T070000
END:DAYLIGHT
BEGIN:STANDARD
TZOFFSETFROM:-0400
TZOFFSETTO:-0500
TZNAME:EST
DTSTART:20341105T060000
END:STANDARD
END:VTIMEZONE
BEGIN:VEVENT
DTSTART;TZID=America/New_York:20280618T140000
DTEND;TZID=America/New_York:20280618T160000
DTSTAMP:20260421T061136
CREATED:20260203T181420Z
LAST-MODIFIED:20260203T181437Z
UID:10019611-1844949600-1844956800@communityec.org
SUMMARY:Ambassador's of the Kingdom Kid's Ministry in FH
DESCRIPTION:
URL:https://communityec.org/calendar/ambassadors-of-the-kingdom-kids-ministry-in-fh-2/2028-06-18/
LOCATION:Fellowship Hall\, 51 Green Valley Rd\, Sinking Spring\, PA\, 19608\, United States
CATEGORIES:Ambassadors of the Kingdom
ORGANIZER;CN="Community Evangelical Church":MAILTO:info@communityec.org
END:VEVENT
BEGIN:VEVENT
DTSTART;TZID=America/New_York:20280716T140000
DTEND;TZID=America/New_York:20280716T160000
DTSTAMP:20260421T061136
CREATED:20260203T181420Z
LAST-MODIFIED:20260203T181437Z
UID:10019612-1847368800-1847376000@communityec.org
SUMMARY:Ambassador's of the Kingdom Kid's Ministry in FH
DESCRIPTION:
URL:https://communityec.org/calendar/ambassadors-of-the-kingdom-kids-ministry-in-fh-2/2028-07-16/
LOCATION:Fellowship Hall\, 51 Green Valley Rd\, Sinking Spring\, PA\, 19608\, United States
CATEGORIES:Ambassadors of the Kingdom
ORGANIZER;CN="Community Evangelical Church":MAILTO:info@communityec.org
END:VEVENT
BEGIN:VEVENT
DTSTART;TZID=America/New_York:20280820T140000
DTEND;TZID=America/New_York:20280820T160000
DTSTAMP:20260421T061136
CREATED:20260203T181420Z
LAST-MODIFIED:20260203T181437Z
UID:10019613-1850392800-1850400000@communityec.org
SUMMARY:Ambassador's of the Kingdom Kid's Ministry in FH
DESCRIPTION:
URL:https://communityec.org/calendar/ambassadors-of-the-kingdom-kids-ministry-in-fh-2/2028-08-20/
LOCATION:Fellowship Hall\, 51 Green Valley Rd\, Sinking Spring\, PA\, 19608\, United States
CATEGORIES:Ambassadors of the Kingdom
ORGANIZER;CN="Community Evangelical Church":MAILTO:info@communityec.org
END:VEVENT
BEGIN:VEVENT
DTSTART;TZID=America/New_York:20280917T140000
DTEND;TZID=America/New_York:20280917T160000
DTSTAMP:20260421T061136
CREATED:20260203T181420Z
LAST-MODIFIED:20260203T181437Z
UID:10019614-1852812000-1852819200@communityec.org
SUMMARY:Ambassador's of the Kingdom Kid's Ministry in FH
DESCRIPTION:
URL:https://communityec.org/calendar/ambassadors-of-the-kingdom-kids-ministry-in-fh-2/2028-09-17/
LOCATION:Fellowship Hall\, 51 Green Valley Rd\, Sinking Spring\, PA\, 19608\, United States
CATEGORIES:Ambassadors of the Kingdom
ORGANIZER;CN="Community Evangelical Church":MAILTO:info@communityec.org
END:VEVENT
BEGIN:VEVENT
DTSTART;TZID=America/New_York:20281015T140000
DTEND;TZID=America/New_York:20281015T160000
DTSTAMP:20260421T061136
CREATED:20260203T181420Z
LAST-MODIFIED:20260203T181437Z
UID:10019615-1855231200-1855238400@communityec.org
SUMMARY:Ambassador's of the Kingdom Kid's Ministry in FH
DESCRIPTION:
URL:https://communityec.org/calendar/ambassadors-of-the-kingdom-kids-ministry-in-fh-2/2028-10-15/
LOCATION:Fellowship Hall\, 51 Green Valley Rd\, Sinking Spring\, PA\, 19608\, United States
CATEGORIES:Ambassadors of the Kingdom
ORGANIZER;CN="Community Evangelical Church":MAILTO:info@communityec.org
END:VEVENT
BEGIN:VEVENT
DTSTART;TZID=America/New_York:20281119T140000
DTEND;TZID=America/New_York:20281119T160000
DTSTAMP:20260421T061136
CREATED:20260203T181420Z
LAST-MODIFIED:20260203T181437Z
UID:10019616-1858255200-1858262400@communityec.org
SUMMARY:Ambassador's of the Kingdom Kid's Ministry in FH
DESCRIPTION:
URL:https://communityec.org/calendar/ambassadors-of-the-kingdom-kids-ministry-in-fh-2/2028-11-19/
LOCATION:Fellowship Hall\, 51 Green Valley Rd\, Sinking Spring\, PA\, 19608\, United States
CATEGORIES:Ambassadors of the Kingdom
ORGANIZER;CN="Community Evangelical Church":MAILTO:info@communityec.org
END:VEVENT
BEGIN:VEVENT
DTSTART;TZID=America/New_York:20281217T140000
DTEND;TZID=America/New_York:20281217T160000
DTSTAMP:20260421T061136
CREATED:20260203T181420Z
LAST-MODIFIED:20260203T181437Z
UID:10019617-1860674400-1860681600@communityec.org
SUMMARY:Ambassador's of the Kingdom Kid's Ministry in FH
DESCRIPTION:
URL:https://communityec.org/calendar/ambassadors-of-the-kingdom-kids-ministry-in-fh-2/2028-12-17/
LOCATION:Fellowship Hall\, 51 Green Valley Rd\, Sinking Spring\, PA\, 19608\, United States
CATEGORIES:Ambassadors of the Kingdom
ORGANIZER;CN="Community Evangelical Church":MAILTO:info@communityec.org
END:VEVENT
BEGIN:VEVENT
DTSTART;TZID=America/New_York:20290121T140000
DTEND;TZID=America/New_York:20290121T160000
DTSTAMP:20260421T061136
CREATED:20260203T181420Z
LAST-MODIFIED:20260203T181437Z
UID:10019618-1863698400-1863705600@communityec.org
SUMMARY:Ambassador's of the Kingdom Kid's Ministry in FH
DESCRIPTION:
URL:https://communityec.org/calendar/ambassadors-of-the-kingdom-kids-ministry-in-fh-2/2029-01-21/
LOCATION:Fellowship Hall\, 51 Green Valley Rd\, Sinking Spring\, PA\, 19608\, United States
CATEGORIES:Ambassadors of the Kingdom
ORGANIZER;CN="Community Evangelical Church":MAILTO:info@communityec.org
END:VEVENT
BEGIN:VEVENT
DTSTART;TZID=America/New_York:20290218T140000
DTEND;TZID=America/New_York:20290218T160000
DTSTAMP:20260421T061136
CREATED:20260203T181420Z
LAST-MODIFIED:20260203T181437Z
UID:10019619-1866117600-1866124800@communityec.org
SUMMARY:Ambassador's of the Kingdom Kid's Ministry in FH
DESCRIPTION:
URL:https://communityec.org/calendar/ambassadors-of-the-kingdom-kids-ministry-in-fh-2/2029-02-18/
LOCATION:Fellowship Hall\, 51 Green Valley Rd\, Sinking Spring\, PA\, 19608\, United States
CATEGORIES:Ambassadors of the Kingdom
ORGANIZER;CN="Community Evangelical Church":MAILTO:info@communityec.org
END:VEVENT
BEGIN:VEVENT
DTSTART;TZID=America/New_York:20290318T140000
DTEND;TZID=America/New_York:20290318T160000
DTSTAMP:20260421T061136
CREATED:20260203T181420Z
LAST-MODIFIED:20260203T181437Z
UID:10019620-1868536800-1868544000@communityec.org
SUMMARY:Ambassador's of the Kingdom Kid's Ministry in FH
DESCRIPTION:
URL:https://communityec.org/calendar/ambassadors-of-the-kingdom-kids-ministry-in-fh-2/2029-03-18/
LOCATION:Fellowship Hall\, 51 Green Valley Rd\, Sinking Spring\, PA\, 19608\, United States
CATEGORIES:Ambassadors of the Kingdom
ORGANIZER;CN="Community Evangelical Church":MAILTO:info@communityec.org
END:VEVENT
BEGIN:VEVENT
DTSTART;TZID=America/New_York:20290415T140000
DTEND;TZID=America/New_York:20290415T160000
DTSTAMP:20260421T061136
CREATED:20260203T181420Z
LAST-MODIFIED:20260203T181437Z
UID:10019621-1870956000-1870963200@communityec.org
SUMMARY:Ambassador's of the Kingdom Kid's Ministry in FH
DESCRIPTION:
URL:https://communityec.org/calendar/ambassadors-of-the-kingdom-kids-ministry-in-fh-2/2029-04-15/
LOCATION:Fellowship Hall\, 51 Green Valley Rd\, Sinking Spring\, PA\, 19608\, United States
CATEGORIES:Ambassadors of the Kingdom
ORGANIZER;CN="Community Evangelical Church":MAILTO:info@communityec.org
END:VEVENT
BEGIN:VEVENT
DTSTART;TZID=America/New_York:20290520T140000
DTEND;TZID=America/New_York:20290520T160000
DTSTAMP:20260421T061136
CREATED:20260203T181420Z
LAST-MODIFIED:20260203T181437Z
UID:10019622-1873980000-1873987200@communityec.org
SUMMARY:Ambassador's of the Kingdom Kid's Ministry in FH
DESCRIPTION:
URL:https://communityec.org/calendar/ambassadors-of-the-kingdom-kids-ministry-in-fh-2/2029-05-20/
LOCATION:Fellowship Hall\, 51 Green Valley Rd\, Sinking Spring\, PA\, 19608\, United States
CATEGORIES:Ambassadors of the Kingdom
ORGANIZER;CN="Community Evangelical Church":MAILTO:info@communityec.org
END:VEVENT
BEGIN:VEVENT
DTSTART;TZID=America/New_York:20290617T140000
DTEND;TZID=America/New_York:20290617T160000
DTSTAMP:20260421T061136
CREATED:20260203T181420Z
LAST-MODIFIED:20260203T181437Z
UID:10019623-1876399200-1876406400@communityec.org
SUMMARY:Ambassador's of the Kingdom Kid's Ministry in FH
DESCRIPTION:
URL:https://communityec.org/calendar/ambassadors-of-the-kingdom-kids-ministry-in-fh-2/2029-06-17/
LOCATION:Fellowship Hall\, 51 Green Valley Rd\, Sinking Spring\, PA\, 19608\, United States
CATEGORIES:Ambassadors of the Kingdom
ORGANIZER;CN="Community Evangelical Church":MAILTO:info@communityec.org
END:VEVENT
BEGIN:VEVENT
DTSTART;TZID=America/New_York:20290715T140000
DTEND;TZID=America/New_York:20290715T160000
DTSTAMP:20260421T061136
CREATED:20260203T181420Z
LAST-MODIFIED:20260203T181437Z
UID:10019624-1878818400-1878825600@communityec.org
SUMMARY:Ambassador's of the Kingdom Kid's Ministry in FH
DESCRIPTION:
URL:https://communityec.org/calendar/ambassadors-of-the-kingdom-kids-ministry-in-fh-2/2029-07-15/
LOCATION:Fellowship Hall\, 51 Green Valley Rd\, Sinking Spring\, PA\, 19608\, United States
CATEGORIES:Ambassadors of the Kingdom
ORGANIZER;CN="Community Evangelical Church":MAILTO:info@communityec.org
END:VEVENT
BEGIN:VEVENT
DTSTART;TZID=America/New_York:20290819T140000
DTEND;TZID=America/New_York:20290819T160000
DTSTAMP:20260421T061136
CREATED:20260203T181420Z
LAST-MODIFIED:20260203T181437Z
UID:10019625-1881842400-1881849600@communityec.org
SUMMARY:Ambassador's of the Kingdom Kid's Ministry in FH
DESCRIPTION:
URL:https://communityec.org/calendar/ambassadors-of-the-kingdom-kids-ministry-in-fh-2/2029-08-19/
LOCATION:Fellowship Hall\, 51 Green Valley Rd\, Sinking Spring\, PA\, 19608\, United States
CATEGORIES:Ambassadors of the Kingdom
ORGANIZER;CN="Community Evangelical Church":MAILTO:info@communityec.org
END:VEVENT
BEGIN:VEVENT
DTSTART;TZID=America/New_York:20290916T140000
DTEND;TZID=America/New_York:20290916T160000
DTSTAMP:20260421T061136
CREATED:20260203T181420Z
LAST-MODIFIED:20260203T181437Z
UID:10019626-1884261600-1884268800@communityec.org
SUMMARY:Ambassador's of the Kingdom Kid's Ministry in FH
DESCRIPTION:
URL:https://communityec.org/calendar/ambassadors-of-the-kingdom-kids-ministry-in-fh-2/2029-09-16/
LOCATION:Fellowship Hall\, 51 Green Valley Rd\, Sinking Spring\, PA\, 19608\, United States
CATEGORIES:Ambassadors of the Kingdom
ORGANIZER;CN="Community Evangelical Church":MAILTO:info@communityec.org
END:VEVENT
BEGIN:VEVENT
DTSTART;TZID=America/New_York:20291021T140000
DTEND;TZID=America/New_York:20291021T160000
DTSTAMP:20260421T061136
CREATED:20260203T181420Z
LAST-MODIFIED:20260203T181437Z
UID:10019627-1887285600-1887292800@communityec.org
SUMMARY:Ambassador's of the Kingdom Kid's Ministry in FH
DESCRIPTION:
URL:https://communityec.org/calendar/ambassadors-of-the-kingdom-kids-ministry-in-fh-2/2029-10-21/
LOCATION:Fellowship Hall\, 51 Green Valley Rd\, Sinking Spring\, PA\, 19608\, United States
CATEGORIES:Ambassadors of the Kingdom
ORGANIZER;CN="Community Evangelical Church":MAILTO:info@communityec.org
END:VEVENT
BEGIN:VEVENT
DTSTART;TZID=America/New_York:20291118T140000
DTEND;TZID=America/New_York:20291118T160000
DTSTAMP:20260421T061136
CREATED:20260203T181420Z
LAST-MODIFIED:20260203T181437Z
UID:10019628-1889704800-1889712000@communityec.org
SUMMARY:Ambassador's of the Kingdom Kid's Ministry in FH
DESCRIPTION:
URL:https://communityec.org/calendar/ambassadors-of-the-kingdom-kids-ministry-in-fh-2/2029-11-18/
LOCATION:Fellowship Hall\, 51 Green Valley Rd\, Sinking Spring\, PA\, 19608\, United States
CATEGORIES:Ambassadors of the Kingdom
ORGANIZER;CN="Community Evangelical Church":MAILTO:info@communityec.org
END:VEVENT
BEGIN:VEVENT
DTSTART;TZID=America/New_York:20291216T140000
DTEND;TZID=America/New_York:20291216T160000
DTSTAMP:20260421T061136
CREATED:20260203T181420Z
LAST-MODIFIED:20260203T181437Z
UID:10019629-1892124000-1892131200@communityec.org
SUMMARY:Ambassador's of the Kingdom Kid's Ministry in FH
DESCRIPTION:
URL:https://communityec.org/calendar/ambassadors-of-the-kingdom-kids-ministry-in-fh-2/2029-12-16/
LOCATION:Fellowship Hall\, 51 Green Valley Rd\, Sinking Spring\, PA\, 19608\, United States
CATEGORIES:Ambassadors of the Kingdom
ORGANIZER;CN="Community Evangelical Church":MAILTO:info@communityec.org
END:VEVENT
BEGIN:VEVENT
DTSTART;TZID=America/New_York:20300120T140000
DTEND;TZID=America/New_York:20300120T160000
DTSTAMP:20260421T061136
CREATED:20260203T181420Z
LAST-MODIFIED:20260203T181437Z
UID:10019630-1895148000-1895155200@communityec.org
SUMMARY:Ambassador's of the Kingdom Kid's Ministry in FH
DESCRIPTION:
URL:https://communityec.org/calendar/ambassadors-of-the-kingdom-kids-ministry-in-fh-2/2030-01-20/
LOCATION:Fellowship Hall\, 51 Green Valley Rd\, Sinking Spring\, PA\, 19608\, United States
CATEGORIES:Ambassadors of the Kingdom
ORGANIZER;CN="Community Evangelical Church":MAILTO:info@communityec.org
END:VEVENT
BEGIN:VEVENT
DTSTART;TZID=America/New_York:20300217T140000
DTEND;TZID=America/New_York:20300217T160000
DTSTAMP:20260421T061136
CREATED:20260203T181420Z
LAST-MODIFIED:20260203T181437Z
UID:10019631-1897567200-1897574400@communityec.org
SUMMARY:Ambassador's of the Kingdom Kid's Ministry in FH
DESCRIPTION:
URL:https://communityec.org/calendar/ambassadors-of-the-kingdom-kids-ministry-in-fh-2/2030-02-17/
LOCATION:Fellowship Hall\, 51 Green Valley Rd\, Sinking Spring\, PA\, 19608\, United States
CATEGORIES:Ambassadors of the Kingdom
ORGANIZER;CN="Community Evangelical Church":MAILTO:info@communityec.org
END:VEVENT
BEGIN:VEVENT
DTSTART;TZID=America/New_York:20300317T140000
DTEND;TZID=America/New_York:20300317T160000
DTSTAMP:20260421T061136
CREATED:20260203T181420Z
LAST-MODIFIED:20260203T181437Z
UID:10019632-1899986400-1899993600@communityec.org
SUMMARY:Ambassador's of the Kingdom Kid's Ministry in FH
DESCRIPTION:
URL:https://communityec.org/calendar/ambassadors-of-the-kingdom-kids-ministry-in-fh-2/2030-03-17/
LOCATION:Fellowship Hall\, 51 Green Valley Rd\, Sinking Spring\, PA\, 19608\, United States
CATEGORIES:Ambassadors of the Kingdom
ORGANIZER;CN="Community Evangelical Church":MAILTO:info@communityec.org
END:VEVENT
BEGIN:VEVENT
DTSTART;TZID=America/New_York:20300421T140000
DTEND;TZID=America/New_York:20300421T160000
DTSTAMP:20260421T061136
CREATED:20260203T181420Z
LAST-MODIFIED:20260203T181437Z
UID:10019633-1903010400-1903017600@communityec.org
SUMMARY:Ambassador's of the Kingdom Kid's Ministry in FH
DESCRIPTION:
URL:https://communityec.org/calendar/ambassadors-of-the-kingdom-kids-ministry-in-fh-2/2030-04-21/
LOCATION:Fellowship Hall\, 51 Green Valley Rd\, Sinking Spring\, PA\, 19608\, United States
CATEGORIES:Ambassadors of the Kingdom
ORGANIZER;CN="Community Evangelical Church":MAILTO:info@communityec.org
END:VEVENT
BEGIN:VEVENT
DTSTART;TZID=America/New_York:20300519T140000
DTEND;TZID=America/New_York:20300519T160000
DTSTAMP:20260421T061136
CREATED:20260203T181420Z
LAST-MODIFIED:20260203T181437Z
UID:10019634-1905429600-1905436800@communityec.org
SUMMARY:Ambassador's of the Kingdom Kid's Ministry in FH
DESCRIPTION:
URL:https://communityec.org/calendar/ambassadors-of-the-kingdom-kids-ministry-in-fh-2/2030-05-19/
LOCATION:Fellowship Hall\, 51 Green Valley Rd\, Sinking Spring\, PA\, 19608\, United States
CATEGORIES:Ambassadors of the Kingdom
ORGANIZER;CN="Community Evangelical Church":MAILTO:info@communityec.org
END:VEVENT
BEGIN:VEVENT
DTSTART;TZID=America/New_York:20300616T140000
DTEND;TZID=America/New_York:20300616T160000
DTSTAMP:20260421T061136
CREATED:20260203T181420Z
LAST-MODIFIED:20260203T181437Z
UID:10019635-1907848800-1907856000@communityec.org
SUMMARY:Ambassador's of the Kingdom Kid's Ministry in FH
DESCRIPTION:
URL:https://communityec.org/calendar/ambassadors-of-the-kingdom-kids-ministry-in-fh-2/2030-06-16/
LOCATION:Fellowship Hall\, 51 Green Valley Rd\, Sinking Spring\, PA\, 19608\, United States
CATEGORIES:Ambassadors of the Kingdom
ORGANIZER;CN="Community Evangelical Church":MAILTO:info@communityec.org
END:VEVENT
BEGIN:VEVENT
DTSTART;TZID=America/New_York:20300721T140000
DTEND;TZID=America/New_York:20300721T160000
DTSTAMP:20260421T061136
CREATED:20260203T181420Z
LAST-MODIFIED:20260203T181437Z
UID:10019636-1910872800-1910880000@communityec.org
SUMMARY:Ambassador's of the Kingdom Kid's Ministry in FH
DESCRIPTION:
URL:https://communityec.org/calendar/ambassadors-of-the-kingdom-kids-ministry-in-fh-2/2030-07-21/
LOCATION:Fellowship Hall\, 51 Green Valley Rd\, Sinking Spring\, PA\, 19608\, United States
CATEGORIES:Ambassadors of the Kingdom
ORGANIZER;CN="Community Evangelical Church":MAILTO:info@communityec.org
END:VEVENT
BEGIN:VEVENT
DTSTART;TZID=America/New_York:20300818T140000
DTEND;TZID=America/New_York:20300818T160000
DTSTAMP:20260421T061136
CREATED:20260203T181420Z
LAST-MODIFIED:20260203T181437Z
UID:10019637-1913292000-1913299200@communityec.org
SUMMARY:Ambassador's of the Kingdom Kid's Ministry in FH
DESCRIPTION:
URL:https://communityec.org/calendar/ambassadors-of-the-kingdom-kids-ministry-in-fh-2/2030-08-18/
LOCATION:Fellowship Hall\, 51 Green Valley Rd\, Sinking Spring\, PA\, 19608\, United States
CATEGORIES:Ambassadors of the Kingdom
ORGANIZER;CN="Community Evangelical Church":MAILTO:info@communityec.org
END:VEVENT
BEGIN:VEVENT
DTSTART;TZID=America/New_York:20300915T140000
DTEND;TZID=America/New_York:20300915T160000
DTSTAMP:20260421T061136
CREATED:20260203T181420Z
LAST-MODIFIED:20260203T181437Z
UID:10019638-1915711200-1915718400@communityec.org
SUMMARY:Ambassador's of the Kingdom Kid's Ministry in FH
DESCRIPTION:
URL:https://communityec.org/calendar/ambassadors-of-the-kingdom-kids-ministry-in-fh-2/2030-09-15/
LOCATION:Fellowship Hall\, 51 Green Valley Rd\, Sinking Spring\, PA\, 19608\, United States
CATEGORIES:Ambassadors of the Kingdom
ORGANIZER;CN="Community Evangelical Church":MAILTO:info@communityec.org
END:VEVENT
BEGIN:VEVENT
DTSTART;TZID=America/New_York:20301020T140000
DTEND;TZID=America/New_York:20301020T160000
DTSTAMP:20260421T061136
CREATED:20260203T181420Z
LAST-MODIFIED:20260203T181437Z
UID:10019639-1918735200-1918742400@communityec.org
SUMMARY:Ambassador's of the Kingdom Kid's Ministry in FH
DESCRIPTION:
URL:https://communityec.org/calendar/ambassadors-of-the-kingdom-kids-ministry-in-fh-2/2030-10-20/
LOCATION:Fellowship Hall\, 51 Green Valley Rd\, Sinking Spring\, PA\, 19608\, United States
CATEGORIES:Ambassadors of the Kingdom
ORGANIZER;CN="Community Evangelical Church":MAILTO:info@communityec.org
END:VEVENT
BEGIN:VEVENT
DTSTART;TZID=America/New_York:20301117T140000
DTEND;TZID=America/New_York:20301117T160000
DTSTAMP:20260421T061136
CREATED:20260203T181420Z
LAST-MODIFIED:20260203T181437Z
UID:10019640-1921154400-1921161600@communityec.org
SUMMARY:Ambassador's of the Kingdom Kid's Ministry in FH
DESCRIPTION:
URL:https://communityec.org/calendar/ambassadors-of-the-kingdom-kids-ministry-in-fh-2/2030-11-17/
LOCATION:Fellowship Hall\, 51 Green Valley Rd\, Sinking Spring\, PA\, 19608\, United States
CATEGORIES:Ambassadors of the Kingdom
ORGANIZER;CN="Community Evangelical Church":MAILTO:info@communityec.org
END:VEVENT
BEGIN:VEVENT
DTSTART;TZID=America/New_York:20301215T140000
DTEND;TZID=America/New_York:20301215T160000
DTSTAMP:20260421T061136
CREATED:20260203T181420Z
LAST-MODIFIED:20260203T181437Z
UID:10019641-1923573600-1923580800@communityec.org
SUMMARY:Ambassador's of the Kingdom Kid's Ministry in FH
DESCRIPTION:
URL:https://communityec.org/calendar/ambassadors-of-the-kingdom-kids-ministry-in-fh-2/2030-12-15/
LOCATION:Fellowship Hall\, 51 Green Valley Rd\, Sinking Spring\, PA\, 19608\, United States
CATEGORIES:Ambassadors of the Kingdom
ORGANIZER;CN="Community Evangelical Church":MAILTO:info@communityec.org
END:VEVENT
BEGIN:VEVENT
DTSTART;TZID=America/New_York:20310119T140000
DTEND;TZID=America/New_York:20310119T160000
DTSTAMP:20260421T061136
CREATED:20260203T181420Z
LAST-MODIFIED:20260203T181437Z
UID:10019642-1926597600-1926604800@communityec.org
SUMMARY:Ambassador's of the Kingdom Kid's Ministry in FH
DESCRIPTION:
URL:https://communityec.org/calendar/ambassadors-of-the-kingdom-kids-ministry-in-fh-2/2031-01-19/
LOCATION:Fellowship Hall\, 51 Green Valley Rd\, Sinking Spring\, PA\, 19608\, United States
CATEGORIES:Ambassadors of the Kingdom
ORGANIZER;CN="Community Evangelical Church":MAILTO:info@communityec.org
END:VEVENT
BEGIN:VEVENT
DTSTART;TZID=America/New_York:20330508T180000
DTEND;TZID=America/New_York:20330508T220000
DTSTAMP:20260421T061136
CREATED:20240703T145825Z
LAST-MODIFIED:20250603T164322Z
UID:10017060-1999188000-1999202400@communityec.org
SUMMARY:Private Event - FH
DESCRIPTION:Jean Davis – Country Western Dancers of Reading\nneatkid001@gmail.com \n  \n2026 are Jan. 17\, Feb 21\, March 21\, April 18\, May 16\, Sept 12\, Oct 17\, Nov 14 and Dec 12.
URL:https://communityec.org/calendar/private-event-fh-21/2033-05-08/
LOCATION:Fellowship Hall\, 51 Green Valley Rd\, Sinking Spring\, PA\, 19608\, United States
CATEGORIES:Private Event
ORGANIZER;CN="Community Evangelical Church":MAILTO:info@communityec.org
END:VEVENT
END:VCALENDAR